Workbook

Sheet тит.лист
G1: Утверждена
G2: постановлением Администрации
G3: городского округа Щёлково
G4: от __________ № __________
A11: Муниципальная программа городского округа Щёлково «Культура и туризм»
A14: Срок реализации муниципальной программы 2023-2028 годы
A16: Утверждена постановлением Администрации городского округа Щёлково от 05.12.2022 № 3851
A19: Список изменяющих документов:
A20: Постановление Администрации городского округа Щёлково от 14.03.2023 № 801
A21: Постановление Администрации городского округа Щёлково от 03.07.2023 № 2401
A22: Постановление Администрации городского округа Щёлково от 29.09.2023 № 3611
A23: Постановление Администрации городского округа Щёлково от 18.01.2024 № 64
A24: Постановление Администрации городского округа Щёлково от 12.03.2024 № 905
A25: Постановление Администрации городского округа Щёлково от 18.06.2024 № 2576
A26: Постановление Администрации городского округа Щёлково от 20.11.2024 № 5272
A27: Постановление Администрации городского округа Щёлково от 14.02.2025 № 665
... A37: Дата размещения в Подсистеме по формированию муниципальных программ Московской области ГАС «Управление» 27.08.2026

Sheet паспорт мп
A1: Паспорт Муниципальной программы городского округа Щёлково «Культура и туризм»
A4: Координатор муниципальной программы | B4: Заместитель Главы городского округа Щёлково по социальной политике
A5: Муниципальный заказчик муниципальной программы | B5: Комитет по культуре и туризму Администрации городского округа Щёлково
A6: Цели муниципальной программы | B6: 1.Обеспечение доступности населения городского округа Щёлково к культурным ценностям и удовлетворение культурных потребностей граждан.
B7: 2.Повышение качества услуг в сфере культуры городского округа Щёлково
B8: 3.Реализация достижения показателей, предусмотренных в Указах Президента Российской Федерации.
A9: Перечень подпрограмм | B9: Подпрограмма II. «Развитие музейного дела»
B10: Подпрограмма III. «Развитие библиотечного дела»
B11: Подпрограмма IV «Развитие профессионального искусства, гастрольно-концертной и культурно-досуговой деятельности, кинематографии»
B12: Подпрограмма V «Укрепление материально-технической базы муниципальных учреждений культуры»
B13: Подпрограмма VI «Развитие образования в сфере культуры»
B14: Подпрограмма VIII «Обеспечивающая подпрограмма»
A15: Краткая характеристика подпрограмм | B15: 1. Подпрограмма II «Развитие музейного дела». Приобретение культурных ценностей, реставрация музейных предметов, создание музейных выставок и экспозиций, приобретение фондового, реставрационного и экспозиционного оборудования, проведение капитального ремонта, текущего ремонта и благоустройство территорий в муниципальных музеях городского округа Щёлково
B16: 2. Подпрограмма III «Развитие библиотечного дела». Организация библиотечного обслуживания населения, комплектование книжных фондов актуальными изданиями, развития литературного творчества и популяризации чтения
B17: 3. Подпрограмма IV «Развитие профессионального искусства, гастрольно-концертной и культурно-досуговой деятельности, кинематографии». Обеспечение функций муниципальных театрально-концертных учреждений городского округа Щёлково, проведение праздничных и культурно-массовых мероприятий, творческих проектов муниципального значения в сфере культуры
B18: 4. Подпрограмма V «Укрепление материально-технической базы муниципальных учреждений культуры». Модернизация материально-технической базы учреждений культуры для создания комфортных условий развития народного творчества, творческой самореализации граждан и предоставления услуг населению в сфере культуры
B19: 5. Подпрограмма VI «Развитие образования в сфере культуры». Реализации прав граждан на получение профессионального образования, обеспечение мер социальной поддержки обучающихся в подведомственных образовательных организациях, укрепление материально-технической базы образовательных организаций сферы культуры
B20: 6. Подпрограмма VIII «Обеспечивающая подпрограмма». Обеспечение эффективного выполнения функций и полномочий органов местного самоуправления в сфере культуры и туризма
A21: Источник финансирования муниципальной программы, в том числе по годам: | B21: Расходы (тыс.руб.)
B22: Всего | C22: 2023 | D22: 2024 | E22: 2025 | F22: 2026 | G22: 2027 | H22: 2028
A23: Средства городского округа Щёлково | B23: =SUM(C23:H23) -> 7696817.8 | C23: ='паспорт пп2'!E8+'паспорт пп 3'!E8+'паспорт пп 4'!E8+'паспорт пп 5'!E8+'паспорт пп 6'!E8+'паспорт пп 8'!E8 -> 1070815.1 | D23: ='паспорт пп2'!F8+'паспорт пп 3'!F8+'паспорт пп 4'!F8+'паспорт пп 5'!F8+'паспорт пп 6'!F8+'паспорт пп 8'!F8 -> 1261667.3 | E23: ='паспорт пп2'!G8+'паспорт пп 3'!G8+'паспорт пп 4'!G8+'паспорт пп 5'!G8+'паспорт пп 6'!G8+'паспорт пп 8'!G8 -> 1262115.8 | F23: ='паспорт пп2'!H8+'паспорт пп 3'!H8+'паспорт пп 4'!H8+'паспорт пп 5'!H8+'паспорт пп 6'!H8+'паспорт пп 8'!H8 -> 1439364.6 | G23: ='паспорт пп2'!I8+'паспорт пп 3'!I8+'паспорт пп 4'!I8+'паспорт пп 5'!I8+'паспорт пп 6'!I8+'паспорт пп 8'!I8 -> 1367331.6 | H23: ='паспорт пп2'!J8+'паспорт пп 3'!J8+'паспорт пп 4'!J8+'паспорт пп 5'!J8+'паспорт пп 6'!J8+'паспорт пп 8'!J8 -> 1295523.3
A24: Средства бюджета Московской области | B24: =SUM(C24:H24) -> 223285.78 | C24: ='паспорт пп 3'!E9+'паспорт пп 4'!E9+'паспорт пп 5'!E9+'паспорт пп2'!E9+'паспорт пп 8'!E9 -> 34578.91 | D24: ='паспорт пп2'!F9+'паспорт пп 3'!F9+'паспорт пп 4'!F9+'паспорт пп 5'!F9+'паспорт пп 6'!F9+'паспорт пп 8'!F9 -> 57738.46 | E24: ='паспорт пп2'!G9+'паспорт пп 3'!G9+'паспорт пп 4'!G9+'паспорт пп 5'!G9+'паспорт пп 6'!G9 -> 97797.35 | F24: ='паспорт пп2'!H9+'паспорт пп 3'!H9+'паспорт пп 4'!H9+'паспорт пп 5'!H9+'паспорт пп 6'!H9 -> 22106.86 | G24: ='паспорт пп2'!I9+'паспорт пп 3'!I9+'паспорт пп 4'!I9+'паспорт пп 5'!I9+'паспорт пп 6'!I9 -> 7568.87 | H24: ='паспорт пп2'!J9+'паспорт пп 3'!J9+'паспорт пп 4'!J9+'паспорт пп 5'!J9+'паспорт пп 6'!J9 -> 3495.33
A25: Средства Федерального бюджета | B25: =SUM(C25:H25) -> 45787.23 | C25: ='паспорт пп 3'!E10+'паспорт пп 4'!E10 -> 7450.51 | D25: ='паспорт пп 3'!F10+'паспорт пп 4'!F10+'паспорт пп 6'!F10 -> 2591.82 | E25: ='паспорт пп 3'!G10+'паспорт пп 4'!G10+'паспорт пп 6'!G10 -> 17547.06 | F25: ='паспорт пп 3'!H10+'паспорт пп 4'!H10+'паспорт пп 6'!H10 -> 3454.47 | G25: ='паспорт пп 3'!I10+'паспорт пп 4'!I10+'паспорт пп 6'!I10 -> 11643.75 | H25: ='паспорт пп 3'!J10+'паспорт пп 4'!J10+'паспорт пп 6'!J10 -> 3099.62
A26: Внебюджетные источники | B26: =SUM(C26:H26) -> 760768.43 | C26: ='паспорт пп2'!E10+'паспорт пп 3'!E11+'паспорт пп 4'!E11+'паспорт пп 6'!E11 -> 95157.99 | D26: ='паспорт пп2'!F10+'паспорт пп 3'!F11+'паспорт пп 4'!F11+'паспорт пп 6'!F11 -> 122455.76 | E26: ='паспорт пп2'!G10+'паспорт пп 3'!G11+'паспорт пп 4'!G11+'паспорт пп 6'!G11 -> 143094.42 | F26: ='паспорт пп2'!H10+'паспорт пп 3'!H11+'паспорт пп 4'!H11+'паспорт пп 6'!H11 -> 133353.42 | G26: ='паспорт пп2'!I10+'паспорт пп 3'!I11+'паспорт пп 4'!I11+'паспорт пп 6'!I11 -> 133353.42 | H26: ='паспорт пп2'!J10+'паспорт пп 3'!J11+'паспорт пп 4'!J11+'паспорт пп 6'!J11 -> 133353.42
A27: Всего, в том числе по годам: | B27: =SUM(C27:H27) -> 8726659.3 | C27: =C25+C24+C23+C26 -> 1208002.5 | D27: =D25+D24+D23+D26 -> 1444453.3 | E27: =E25+E24+E23+E26 -> 1520554.6 | F27: =F25+F24+F23+F26 -> 1598279.4 | G27: =G25+G24+G23+G26 -> 1519897.7 | H27: =H25+H24+H23+H26 -> 1435471.7
A29: 1. Краткая характеристика сферы реализации муниципальной программы.
A31: Муниципальная программа городского округа Щёлково «Культура и туризм» (далее – Программа) реализуется согласно требованиям Федерального Закона от 6 октября 2003г. N 131 «Об общих принципах организации местного самоуправления в Российской Федерации», приказа Министерства культуры и массовых коммуникаций Российской Федерации от 25.05.2006 г. N 229 «Об утверждении методических указаний по реализации вопросов местного значения в сфере культуры городских и сельских поселений, муниципальных районов и методических рекомендаций по сосданию условий для развития местного традиционного народного художественного творчества» и разработана на основе нормативных правовых актов городского округа Щёлково в сфере культуры. Программа разработана в качестве метода осуществления программно-целевого управления в сфере культуры городского округа Щёлково.
A32: Разработка Программы обусловлена необходимостью формирования условий для обеспечения доступности к культурному досугу всем категориям населения городского округа Щёлково по месту жительства, независимо от возраста.
A33: Приоритетным в реализации Программы является обеспечение конституционных прав граждан на получение качественных услуг в сфере культуры, их общедоступность, а также формирование художественных и эстетических вкусов жителей.
A34: Масштаб культурно-массовой и досуговой работы, разнообразие направлений деятельности творческих коллективов требуют улучшения условий оказания услуг и материально-технической базы учреждений культуры, поиск инновационных методов работы. В этой связи Программа носит комплексный характер и обеспечивает последовательность в реализации системы мер по реализации государственной политики в сфере культуры, направленной на создание правовых, экономических и организационных условий для всестороннего, гармоничного развития личности, поддержки творчески одарённых детей и молодежи, коллективов народного творчества в целях повышения социального благополучия населения городского округа Щёлково.
A36: 2. Цели Программы.
A38: 1.Обеспечение доступности населения городского округа Щёлково к культурным ценностям и удовлетворение культурных потребностей граждан.
A39: 2.Повышение качества услуг в сфере культуры в городского округа Щёлково.
A40: 3.Реализация достижения показателей, предусмотренных в Указах Президента Российской Федерации, обращениях Губернатора Московской области.
A44: Подпрограмма II. «Развитие музейного дела»
A45: В городском округе Щёлково расположено Муниципальное бюджетное учреждение культуры городского округа Щёлково "Щёлковский историко-художественный музей", включающее три структурных подразделения: отдел "Выставочный зал "Галерея", отдел "Усадьба Фряново", сектор "Парк усадьбы Фряново" . Ежегодно музеи посещают 14 тыс. чел. Число предметов основного фонда в музеях постоянно растет, и составляет более 25 тыс. экземпляров. Сектор "Парк усадьбы Фряново" является объектом культурного наследия федерального значения "Господский дом усадьбы Фряново". В музеях постоянно проводятся экскурсии, лекции, выставки, мастер-классы, культурно-досуговые мероприятия. В современных условиях в работе музея на первый план выдвигается досуговая деятельность. Для этого улучшаются условия приема посетителей, внедряются в практику работы качественно новые привлекательные программы, улучшается материально-техническая база, проводятся ремонтные и прочие работы.
A47: Подпрограмма III. «Развитие библиотечного дела»
... A74: Цель Программы - повышение качества жизни населения путем развития услуг в сфере культуры. Задачи Программы: - повышение качества услуг в сфере культуры; - поддержка и развитие творческой деятельности на территории городского округа Щёлково; - развитие культурного пространства городского округа Щёлково и сохранение традиций отечественной культуры; - модернизация инфраструктуры сферы культуры; - поддержка кадрового потенциала сферы культуры;
A76: В муниципальной программе «Культура и туризм» предусмотрено финансирование в объеме: | F76: =B27 -> 8726659.3 | G76: тыс. руб.
A77: в том числе по годам реализации:
...

Sheet Целевые показатели МП
M1: Приложение 1 к Программе
A3: Целевые показатели муниципальной программы «Культура и туризм»
A5: № п/п | B5: Наименование целевых показателей | C5: Тип показателя | D5: Единица измерения | E5: Базовое значение на начало реализации подпрограммы | F5: Планируемое значение по годам реализации подпрограмм | L5: Ответственный за достижения показателя | M5: Номер подпрограммы, мероприятий, оказывающих влияние на достижение показателя
F6: 2023 год | G6: 2024 год | H6: 2025 год | I6: 2026 год | J6: 2027 год | K6: 2028 год
A7: 1 | B7: 2 | C7: 3 | D7: 4 | E7: 5 | F7: 6 | G7: 7 | H7: 8 | I7: 9 | J7: 10 | K7: 11 | L7: 12 | M7: 13
B8: Подпрограмма II. «Развитие музейного дела»
A9: 2.1. | B9: Цифровизация музейных фондов | C9: Отраслевой показатель | D9: единица | E9: 14018 | F9: 17883 | G9: 17730 | H9: 18264 | I9: 19412 | J9: 20246 | K9: 20750 | L9: Комитет по культуре и туризму Администрации городского поселения Щёлково | M9: 2, 01.01
B10: Подпрограмма III «Развитие библиотечного дела»
A11: 3.1. | B11: Макропоказатель подпрограммы. Обеспечение роста числа пользователей муниципальных библиотек Московской области | C11: Отраслевой показатель | D11: человек | E11: 42769 | F11: 40278 | G11: 40160 | H11: 35459 | I11: 35600 | J11: 35610 | K11: 35620 | L11: Комитет по культуре и туризму Администрации городского поселения Щёлково | M11: 3, 01.02
A12: 3.2. | B12: Количество переоснащенных муниципальных библиотек по модельному стандарту | C12: Отраслевой показатель | D12: единица | E12: - | F12: 1 | G12: - | H12: 1 | I12: - | J12: - | K12: - | L12: Комитет по культуре и туризму Администрации городского поселения Щёлково | M12: 3, Я5.01
B13: Подпрограмма IV «Развитие профессионального искусства, гастрольно-концертной и культурно-досуговой деятельности, кинематографии»
A14: 4.1. | B14: Число посещений мероприятий организаций культуры | C14: Указ ПРФ от 04.02.2021 № 68 «Об оценке эффективности деятельности высших должностных лиц (руководителей высших исполнительных органов государственной власти) субъектов Российской Федерации и деятельности органов исполнительной власти субъектов Российской Федерации», приоритетный показатель на 2024 год | D14: тыс. единиц | E14: 873.035 | F14: 948.846 | G14: 1093.884 | H14: - | I14: - | J14: - | K14: - | L14: Комитет по культуре и туризму Администрации городского поселения Щёлково | M14: 2, 01.02 2, 01.03 2, 01.04 2, 03.01 2, 03.02 2, 03.03 2, 03.04 2, 03.05 2, Я5.01 3, 01.01 3, 01.02 3, 01.03 3, 01.04 3, 01.06 3, 02.01 3, 02.02 3, 02.03 3, 02.04 3, А1.01 3, Я5.01 4, 01.01 4, 01.02 4, 01.03 4, 01.04 4, 02.01 4, 02.04 4, 02.06 4, 03.01 4, 04.01 4, 04.02 4, 05.01 4, 05.02 4, 05.03 4, 05.04 4, 05.05 4, 05.06 4, 05.08 4, 05.09 4, 06.01 4, 06.03 4, 07.02 4, Я5.01 5, 02.04 6, 03.01 6, 03.03 6, 03.05 6, 03.10 6.03.11 6, 04.01 6, 04.04 6, 05.01 6, 05.02
A16: 4.2. | B16: Число посещений мероприятий организаций культуры | C16: Отраслевой показатель | D16: тыс. единиц | E16: - | F16: - | G16: - | H16: 1395.328 | I16: 1267.476 | J16: 1713.293 | K16: 1872.331 | L16: Комитет по культуре и туризму Администрации городского поселения Щёлково
A17: 4.3. | B17: Количество граждан, принимающих участие в добровольческой деятельности | C17: Отраслевой показатель | D17: единица | E17: 77 | F17: 103 | G17: 129 | H17: 155 | I17: 181 | J17: 200 | K17: 220 | L17: Комитет по культуре и туризму Администрации городского поселения Щёлково | M17: 4, 01.02
B18: Подпрограмма V «Укрепление материально-технической базы муниципальных учреждений культуры»
A19: 5.1. | B19: Доля приоритетных объектов, доступных для инвалидов и других маломобильных групп населения в сфере культуры и дополнительного образования сферы культуры, в общем количестве приоритетных объектов в сфере культуры и дополнительного образования сферы культуры в Московской области | C19: Отраслевой показатель | D19: процент | E19: - | F19: 63.6 | G19: - | H19: - | I19: - | J19: - | K19: - | L19: Комитет по культуре и туризму Администрации городского поселения Щёлково | M19: 5, 01.01
B20: Подпрограмма VI «Развитие образования в сфере культуры»
A21: 6.1. | B21: Доля детей в возрасте от 5 до 18 лет, охваченных дополнительным образованием сферы культуры | C21: Отраслевой показатель | D21: процент | E21: =3646/31416*100 -> 11.605551 | F21: 11.7 | G21: 10.5 | H21: 11.1 | I21: 10.7 | J21: 10.8 | K21: 10.8 | L21: Комитет по культуре и туризму Администрации городского поселения Щёлково | M21: 6. 01 01
A22: 6.2. | B22: Доля детей, осваивающих дополнительные предпрофессиональные программы в области искусств за счет бюджетных средств от общего количества обучающихся в детских школах искусств за счет бюджетных средств | C22: Отраслевой показатель | D22: процент | E22: - | F22: - | G22: 62 | H22: 76 | I22: 80 | J22: 80 | K22: 80 | L22: Комитет по культуре и туризму Администрации городского поселения Щёлково | M22: 6. 01 01
A23: 6.3. | B23: Количество оснащенных образовательных учреждений в сфере культуры (детских школ искусств по видам искусств и училищ) музыкальными инструментами, оборудованием и учебными материалами | C23: Отраслевой показатель | D23: единица | E23: - | F23: - | G23: - | H23: 1 | I23: 0 | J23: 2 | K23: 2 | L23: Комитет по культуре и туризму Администрации городского поселения Щёлково | M23: 6, Я5.01
A24: 6.4. | B24: Количество оснащенных образовательных организаций в сфере культуры (детские школы искусств по видам искусств и училищ) музыкальными инструментами | C24: Отраслевой показатель | D24: единица | E24: - | F24: - | G24: - | H24: - | I24: 4 | J24: - | K24: - | L24: Комитет по культуре и туризму Администрации городского поселения Щёлково | M24: 6, 03.04

Sheet Методика расчета ЦП
A3: Методика расчета значений целевых показателей муниципальной подпрограммы
A5: № п/п | B5: Наименование целевого показателя | D5: Тип целевого показателя | E5: Единица измерения | F5: Порядок расчета целевого показателя | G5: Источники получения информации | H5: Периодичность предоставления
B6: Подпрограмма II. «Развитие музейного дела»
A7: 2.1. | B7: Цифровизация музейных фондов | D7: Отраслевой показатель | E7: единица | F7: Плановое значение - плановое количество музейного фонда планируемого к переводу в электронный вид в отчетном году (не нарастающим итогом) Итоговое значение - фактическое количество музейного фонда переведенного в электронный вид в отчетном году (не нарастающим итогом) | G7: Государственный каталог Музейного фонда Российской Федерации | H7: Квартальная
B8: Подпрограмма III «Развитие библиотечного дела»
A9: 3.1. | B9: Макропоказатель подпрограммы. Обеспечение роста числа пользователей муниципальных библиотек Московской области | D9: Отраслевой показатель | E9: человек | F9: Число пользователей библиотек | G9: Форма федерального статистического наблюдения № 6-НК «Сведения об общедоступной (публичной) библиотеке» | H9: Квартальная
A10: 3.2. | B10: Количество переоснащенных муниципальных библиотек по модельному стандарту | D10: Отраслевой показатель | E10: единица | F10: Количество переоснащенных библиотек | G10: Определяется ОМСУ | H10: Квартальная
B11: Подпрограмма IV «Развитие профессионального искусства, гастрольно-концертной и культурно-досуговой деятельности, кинематографии»
A12: 4.1., 4.2. | B12: Число посещений мероприятий организаций культуры | D12: Отраслевой показатель | E12: тыс. единиц | F12: В соответствии с методикой, утвержденной Постановлением Правительства РФ от 03.04.2021 № 542 «Об оценке эффективности деятельности высших должностных лиц (руководителей высших исполнительных органов государственной власти) субъектов Российской Федерации и деятельности органов исполнительной власти субъектов Российской Федерации» I(t) = A(t) + B(t) + C(t) + D(t) + E(t) + F(t) + G(t) + H(t) + J(t) + K(t) + L(t) + M(t) + N(t), где: I(t) - суммарное число посещений культурных мероприятий; A(t) - число посещений библиотек; B(t) - число посещений культурно-массовых мероприятий учреждений культурно-досугового типа и иных организаций; C(t) - число посещений музеев; D(t) - число посещений театров; E(t) - число посещений парков культуры и отдыха; F(t) - число посещений концертных организаций и самостоятельных коллективов; G(t) - число посещений цирков; H(t) - число посещений зоопарков; J(t) - число посещений кинотеатров; K(t) - число обращений к цифровым ресурсам в сфере культуры, которое определяется по данным счетчика «Цифровая культура» (Единое информационное пространство в сфере культуры). В разрезе субъекта Российской Федерации учитывается число обращений к цифровым ресурсам данного субъекта; L(t) - число посещений культурных мероприятий, проводимых детскими школами искусств по видам искусств; M(t) - число посещений культурных мероприятий, проводимых профессиональными образовательными организациями; N(t) - число посещений культурных мероприятий, проводимых образовательными организациями высшего образования; t - отчетный период. В соответствии с методикой, утвержденной Постановлением Правительства РФ от 03.04.2021 № 542 «Об оценке эффективности деятельности высших должностных лиц (руководителей высших исполнительных органов государственной власти) субъектов Российской Федерации и деятельности органов исполнительной власти субъектов Российской Федерации» I(t) = A(t) + B(t) + C(t) + D(t) + E(t) + F(t) + G(t) + H(t) + J(t) + K(t) + L(t) + M(t) + N(t), где: I(t) - суммарное число посещений культурных мероприятий; A(t) - число посещений библиотек; B(t) - число посещений культурно-массовых мероприятий учреждений культурно-досугового типа и иных организаций; C(t) - число посещений музеев; D(t) - число посещений театров; E(t) - число посещений парков культуры и отдыха; F(t) - число посещений концертных организаций и самостоятельных коллективов; G(t) - число посещений цирков; H(t) - число посещений зоопарков; J(t) - число посещений кинотеатров; K(t) - число обращений к цифровым ресурсам в сфере культуры, которое определяется по данным счетчика «Цифровая культура» (Единое информационное пространство в сфере культуры). В разрезе субъекта Российской Федерации учитывается число обращений к цифровым ресурсам данного субъекта; L(t) - число посещений культурных мероприятий, проводимых детскими школами искусств по видам искусств; M(t) - число посещений культурных мероприятий, проводимых профессиональными образовательными организациями; N(t) - число посещений культурных мероприятий, проводимых образовательными организациями высшего образования; t - отчетный период. | G12: Источниками информации служат данные организаций, подтвержденные отчетами билетно-кассовых систем, бухгалтерии, данными общедоступных интернет-сервисов, сводные данные Министерства культуры Московской области, Министерства образования Московской области, Министерства благоустройства Московской области, иных государственных органов исполнительной власти и органов местного самоуправления, курирующих деятельность организаций (учреждений), которые проводят культурные мероприятия, в том числе: АИС «Статистическая отчетность отрасли» - автоматизированная информационная система Министерства культуры Российской Федерации; АИС «Единое информационное пространство в сфере культуры» - автоматизированная информационная система Министерства культуры Российской Федерации; ЕАИС - единая федеральная автоматизированная информационная система сведений о показах фильмов в кинозалах Министерства культуры Российской Федерации; ЕГИС «Информационно-аналитическая система» - единая государственная информационная система Министерства просвещения Российской Федерации; ИАС «Мониторинг» - информационная аналитическая система Министерства науки и высшего образования Российской Федерации | H12: Квартальная
A15: 4.3. | B15: Количество граждан, принимающих участие в добровольческой деятельности | D15: Отраслевой показатель | E15: единица | F15: Количество граждан Московской области, зарегистрированных на единой информационной системе в сфере развития добровольчества (волонтерства) DOBRO.RU и принимающих участие в добровольческой (волонтерской) деятельности по направлению «Культура и искусство» | G15: Формируется на основании информации, размещенной в единой информационной системе в сфере развития добровольчества (волонтерства) DOBRO.RU | H15: Квартальная
B16: Подпрограмма V «Укрепление материально-технической базы муниципальных учреждений культуры»
A17: 5.1. | B17: Доля приоритетных объектов, доступных для инвалидов и других маломобильных групп населения в сфере культуры и дополнительного образования сферы культуры, в общем количестве приоритетных объектов в сфере культуры и дополнительного образования сферы культуры в Московской области | D17: Отраслевой показатель | E17: процент | F17: Показатель рассчитывается по формуле: Ддо = Nипо/ Nоко*100%, где: Ддо - доля приоритетных объек-тов, доступных для инвалидов и других маломобильных групп населения в сфере культуры и дополнительного образования сферы культуры, в общем количе-стве приоритетных объектов в сфере культуры и дополнительно-го образования сферы культуры в Московской области; Nипо - количество доступных для инвалидов и других маломобиль-ных групп населения приоритет-ных объектов в сфере культуры и дополнительного образования сферы культуры; Nоко - общее количество приори-тетных объектов в сфере культу-ры и дополнительного образова-ния сферы культуры в Москов-ской области | G17: Реестр приоритетных объектов в сфере культуры и дополнитель-ного образования сферы куль-туры, а также результаты прове-денной паспортизации объектов культуры в Московской области | H17: Квартальная
B18: Подпрограмма VI «Развитие образования в сфере культуры»
A19: 6.1. | B19: Доля детей в возрасте от 5 до 18 лет, охваченных дополнительным образованием сферы культуры | D19: Отраслевой показатель | E19: процент | F19: Дд = Кддо/ Кд х 100, где: Дд - доля детей в возрасте от 5 до 18 лет, охваченных дополнительным образованием сферы культуры Кддо – количество детей, охваченных дополнительным образованием сферы культуры Кд - численность детей в возрасте от 5 до 18 лет | G19: Форма федерального статистического наблюдения № 1-ДШИ «Сведения о детской музыкальной, художественной, хореографической школе и школе искусств» | H19: Годовой
A20: 6.2. | B20: Доля детей, осваивающих дополнительные предпрофессиональные программы в области искусств за счет бюджетных средств от общего количества оучающихся в детских школах искусств за счет бюджетных средств | D20: Отраслевой показатель | E20: процент | F20: Ддпп = Кдпп/ Кддо х 100, где: Ддпп - доля детей, осваивающих дополнительные предпрофессиональные программы в области искусств за счет бюджетных средств от общего количества обучающихся в детских школах искусств за счет бюджетных средств Кдпп – количество детей, осваивающих дополнительные предпрофессиональные программы в области искусств за счет бюджетных средств Кддо – количество детей, обучающихся в детских школах искусств по видам искусств за счет бюджетных средств | G20: Форма федерального статистического наблюдения № 1-ДШИ «Сведения о детской музыкальной, художественной, хореографической школе и школе искусств» | H20: Годовой
A21: 6.3. | B21: Количество оснащенных образовательных учреждений в сфере культуры (детских школ искусств по видам искусств и училищ) музыкальными инструментами, оборудованием и учебными материалами | D21: Отраслевой показатель | E21: единица | F21: Количество оснащенных образовательных учреждений в сфере культуры музыкальными инструментами, оборудованием и учебными материалами | G21: Отчеты муниципальных образований | H21: Годовой
A22: 6.4. | B22: Количество оснащенных образовательных организаций в сфере культуры (детские школы искусств по видам искусств и училищ) музыкальными инструментами | D22: Отраслевой показатель | E22: единица | F22: Количество оснащенных образовательных организаций в сфере культуры музыкальными инструментами | G22: Отчеты муниципальных образований | H22: Годовой

Sheet Методика определ результ
A3: Методика определения результатов выполнения мероприятий подпрограммы
A5: № п/п | B5: Наименование подпрограммы, основного мероприятия, мероприятия | C5: Наименование результата выполнения мероприятия | D5: Единица измерения | E5: Порядок определения значения результата выполнения мероприятий
B6: Подпрограмма II. «Развитие музейного дела»
A7: 2.1. | B7: 02.01.01.01. | C7: Доля достижения показателей муниципального задания, характеризующих объем оказываемых муниципальных услуг (работ) от установленных показателей муниципального задания, характеризующих объем муниципальных услуг (работ) для муниципальных учреждений - музеи, галереи, процент | D7: процент | E7: D = (〖∑_i^n (V〗_i^факт x 100/ V_i^гз))/n, где D – доля достижения показателя; V_i^факт- фактический объем муниципального задания по i -ой муниципальной услуге (работе); V_i^гз – утвержденный объем муниципального задания по i -ой муниципальной услуге (работе); n – общее количество услуг (работ) установленных муниципальным заданием. Отчеты о выполнении муниципальных заданий
A8: 2.2. | B8: 02.01.01.04. | C8: Соотношение средней заработной платы работников муниципальных учреждений культуры без учета внешних совместителей и среднемесячной начисленной заработной платы наемных работников в организациях, у индивидуальных предпринимателей и физических лиц (среднемесячному доходу от трудовой деятельности) в Московской области, процент | D8: процент | E8: Отчеты о достижении значений результатов предоставления субсидии (форма установлена соглашением о предоставлении субсидии из бюджета Московской области).
A9: 2.3. | B9: 02.03.03.01. | C9: Осуществлена поставка товаров, работ, услуг в целях модернизации (развития) материально-технической базы муниципальных музеев, (ед.) | D9: единица | E9: Отчеты о достижении значений результатов предоставления субсидии (форма установлена соглашением о предоставлении из бюджета городского округа Московской области субсидии на иные цели муниципальному бюджетному или автономному учреждению)
A10: 2.4. | B10: 02.03.03.02. | C10: Проведены работы по капитальному ремонту, текущему ремонту, техническому переоснащению и благоустройству территорий в муниципальных музеях Московской области, (ед.) | D10: единица | E10: Отчеты о достижении значений результатов предоставления субсидии (форма установлена соглашением о предоставлении из бюджета городского округа Московской области субсидии на иные цели муниципальному бюджетному или автономному учреждению)
A11: 2.5. | B11: 02.03.03.03. | C11: Приобретено фондовое, реставрационное и экспозиционное оборудование в муниципальных музеях Московской области, (ед.) | D11: единица | E11: Отчеты о достижении значений результатов предоставления субсидии (форма установлена соглашением о предоставлении из бюджета городского округа Московской области субсидии на иные цели муниципальному бюджетному или автономному учреждению)
A12: 2.6. | B12: 02.03.03.04. | C12: Выполнены работы по обеспечению пожарной безопасности муниципальных музеев Московской области, ед. | D12: единица | E12: Отчеты о достижении значений результатов предоставления субсидии (форма установлена соглашением о предоставлении из бюджета городского округа Московской области субсидии на иные цели муниципальному бюджетному или автономному учреждению)
A13: 2.7. | B13: 02.03.03.05. | C13: Проведены работы по текущему ремонту муниципальных музеях Московской области, (ед.) | D13: единица | E13: Отчеты о достижении значений результатов предоставления субсидии (форма установлена соглашением о предоставлении из бюджета городского округа Московской области субсидии на иные цели муниципальному бюджетному или автономному учреждению)
B14: Подпрограмма III «Развитие библиотечного дела»
A15: 3.1. | B15: 03.01.01.01. | C15: Доля достижения показателей муниципального задания, характеризующих объем оказываемых муниципальных услуг (работ) от установленных показателей муниципального задания, характеризующих объем муниципальных услуг (работ), для муниципальных учреждений-библиотеки, процент | D15: процент | E15: D = (〖∑_i^n (V〗_i^факт x 100/ V_i^гз))/n, где D – доля достижения показателя; V_i^факт- фактический объем муниципального задания по i -ой муниципальной услуге (работе); V_i^гз – утвержденный объем муниципального задания по i -ой муниципальной услуге (работе); n – общее количество услуг (работ) установленных муниципальным заданием. Отчеты о выполнении муниципальных заданий
A16: 3.2. | B16: 03.01.01.02. | C16: Поставка литературы различного содержания для комплектования библиотечных фондов, штука | D16: штука | E16: Отчеты о достижении значений результатов предоставления субсидии (форма установлена соглашением о предоставлении субсидии из бюджета городского округа Московской области)
A17: 3.3. | B17: 03.01.01.02. | C17: Муниципальные библиотеки, обеспечившие сохранность книжных фондов | D17: штука | E17: Отчеты о достижении значений результатов предоставления субсидии (форма установлена соглашением о предоставлении субсидии из бюджета городского округа Московской области)
A18: 3.4. | B18: 03.01.01.03. | C18: Муниципальные библиотеки Московской области(юридические лица), обновившие книжный фонд, (ед.) | D18: единица | E18: Отчеты о достижении значений результатов предоставления субсидии (форма установлена соглашением о предоставлении субсидии из бюджета городского округа Московской области)
A19: 3.5. | B19: 03.01.01.04. | C19: Соотношение средней заработной платы работников муниципальных учреждений культуры без учета внешних совместителей и среднемесячной начисленной заработной платы наемных работников в организациях, у индивидуальных предпринимателей и физических лиц (среднемесячному доходу от трудовой деятельности) в Московской области, процент | D19: процент | E19: Отчеты о достижении значений результатов предоставления субсидии (форма установлена соглашением о предоставлении субсидии из бюджета Московской области).
A20: 3.6. | B20: 03.02.02.01. | C20: Осуществлена поставка товаров, работ, услуг в целях модернизации (развития материально-технической базы муниципальных библиотек Московской области, (ед.) | D20: единица | E20: Отчеты о достижении значений результатов предоставления субсидии (форма установлена соглашением о предоставлении субсидии из бюджета Московской области).
A21: 3.7. | B21: 03.02.02.01. | C21: Модернизирована материально-техническая база муниципальных библиотек | D21: единица | E21: Отчеты о достижении значений результатов предоставления субсидии (форма установлена соглашением о предоставлении из бюджета городского округа Московской области субсидии на иные цели муниципальному бюджетному или автономному учреждению)
A22: 3.8. | B22: 03.02.02.02. | C22: Проведены работы по капитальному ремонту, текущему ремонту, техническому переоснащению и благоустройству территорий в муниципальных библиотек Московской области, (ед.) | D22: единица | E22: Отчеты о достижении значений результатов предоставления субсидии (форма установлена соглашением о предоставлении из бюджета городского округа Московской области субсидии на иные цели муниципальному бюджетному или автономному учреждению)
A23: 3.9. | B23: 03.02.02.04. | C23: Проведены работы по текущему ремонту муниципальных библиотеках Московской области, ед. | D23: единица | E23: Отчеты о достижении значений результатов предоставления субсидии (форма установлена соглашением о предоставлении из бюджета городского округа Московской области субсидии на иные цели муниципальному бюджетному или автономному учреждению)
A24: 3.10. | B24: 03. А1.А1.01. | C24: Созданы модельные муниципальные библиотеки | D24: единица | E24: Отчеты о достижении значений результатов предоставления субсидии (форма установлена соглашением о предоставлении субсидии из бюджета городского округа Московской области )
A25: 3.11. | B25: 03.Я5.Я5.01. | C25: Переоснащены муниципальные библиотеки по модельному стандарту, ед. | D25: единица | E25: Отчеты о достижении значений результатов предоставления субсидии (форма установлена соглашением о предоставлении субсидии из бюджета городского округа Московской области)
B26: Подпрограмма IV «Развитие профессионального искусства, гастрольно-концертной и культурно-досуговой деятельности, кинематографии»
A27: 4.1. | B27: 04.01.01.01. | C27: Доля достижения показателей муниципального задания, характеризующих объем оказываемых муниципальных услуг (работ) от установленных показателей муниципального задания, характеризующих объем муниципальных услуг (работ), для муниципальных учреждений - театрально-концертные организации, процент | D27: процент | E27: D = (〖∑_i^n (V〗_i^факт x 100/ V_i^гз))/n, где D – доля достижения показателя; V_i^факт- фактический объем муниципального задания по i-ой муниципальной услуге (работе); V_i^гз – утвержденный объем муниципального задания по i -ой муниципальной услуге (работе); n – общее количество услуг (работ) установленных муниципальным заданием. Отчеты о выполнении муниципальных заданий
A28: 4.2. | B28: 04.01.01.02. | C28: Проведены праздничные и культурно-массовые мероприятия, фестивали, конкурсы, (ед.) | D28: единица | E28: Отчеты о достижении значений результатов предоставления субсидии (форма установлена соглашением о предоставлении из бюджета городского округа Московской области субсидии на иные цели муниципальному бюджетному или автономному учреждению)
A29: 4.3. | B29: 04.01.01.04. | C29: Усовершенствованы профессиональные репертуарные театры, находящиеся в населенных пунктах с численностью населения до 300 тыс. человек, путем создания новых постановок и (или) улучшения материально-технического оснащения, ед. | D29: единица | E29: Отчеты о достижении значений результатов предоставления субсидии (форма установлена соглашением о предоставлении из бюджета городского округа Московской области субсидии на иные цели муниципальному бюджетному или автономному учреждению)
A30: 4.4. | B30: 04.01.01.04. | C30: Созданы новые постановки и (или) улучшено материально-техническое оснащение профессиональных репертуарных театров, находящихся в населенных пунктах с численностью населения до 300 тысяч человек, (ед.) | D30: единица | E30: Отчеты о достижении значений результатов предоставления субсидии (форма установлена соглашением о предоставлении из бюджета городского округа Московской области субсидии на иные цели муниципальному бюджетному или автономному учреждению)
A31: 4.5. | B31: 04.04.04.01. | C31: Доля достижения показателей муниципального задания, характеризующих объем оказываемых муниципальных услуг (работ) от установленных показателей муниципального задания, характеризующих объем муниципальных услуг (работ), для муниципальных культурно-досуговых учреждений, процент | D31: единица | E31: Отчеты о достижении значений результатов предоставления субсидии (форма установлена соглашением о предоставлении из бюджета городского округа Московской области субсидии на иные цели муниципальному бюджетному или автономному учреждению)
A32: 4.6. | B32: 04.04.04.01. | C32: Доля достижения показателей муниципального задания, характеризующих объем оказываемых муниципальных услуг (работ) от установленных показателей муниципального задания, характеризующих объем муниципальных услуг (работ), (%) | D32: единица | E32: Отчеты о достижении значений результатов предоставления субсидии (форма установлена соглашением о предоставлении из бюджета городского округа Московской области субсидии на иные цели муниципальному бюджетному или автономному учреждению)
A33: 4.7. | B33: 04.04.04.02. | C33: Проведены праздничные и культурно-массовыхмероприятия, фестивали, конкурсы, (ед.) | D33: единица | E33: Отчеты о достижении значений результатов предоставления субсидии (форма установлена соглашением о предоставлении субсидии из бюджета городского округа Московской области)
A34: 4.8. | B34: 04.04.04.02. | C34: Реализованы и проведены мероприятия в сфере культуры, ед. | D34: единица | E34: Отчеты о достижении значений результатов предоставления субсидии (форма установлена соглашением о предоставлении субсидии из бюджета городского округа Московской области)
A35: 4.9. | B35: 04.05.05.01. | C35: Проведена модернизация (развитие) материально-технической базы муниципальных театрально-концертных организаций и учреждения культуры, осуществляющих демонстрацию кинофильмов, кинопрокат, развитие киноискусства, ед. | D35: единица | E35: Отчеты о достижении значений результатов предоставления субсидии (форма установлена соглашением о предоставлении из бюджета городского округа Московской области субсидии на иные цели муниципальному бюджетному или автономному учреждению
A36: 4.10. | B36: 04.05.05.02. | C36: Проведена модернизация (развитие) материально-технической базы культурно-досуговых учреждений культуры | D36: единица | E36: Отчеты о достижении значений результатов предоставления субсидии (форма установлена соглашением о предоставлении из бюджета городского округа Московской области субсидии на иные цели муниципальному бюджетному или автономному учреждению)
A37: 4.11. | B37: 04.05.05.03. | C37: Проведен капитальный ремонт, текущий ремонт и благоустройство территорий муниципальных театрально-концертных учреждений культуры, (ед.) | D37: единица | E37: Отчеты о достижении значений результатов предоставления субсидии (форма установлена соглашением о предоставлении из бюджета городского округа Московской области субсидии на иные цели муниципальному бюджетному или автономному учреждению)
A38: 4.12. | B38: 04.05.05.04. | C38: Проведен капитальный ремонт, текущий ремонт и благоустройство территорий муниципальных театрально-концертных организаций и учреждений культуры, осуществляющих демонстрацию кинофильмов, кинопрокат, развитие киноискусства, (ед.) | D38: единица | E38: Отчеты о достижении значений результатов предоставления субсидии (форма установлена соглашением о предоставлении из бюджета городского округа Московской области субсидии на иные цели муниципальному бюджетному или автономному учреждению)
... A48: 4.22. | B48: 04. A2.А2.03. | C48: Оказана государственная поддержка лучшим сельским учреждениям культуры (единица) | D48: единица | E48: Отчеты о достижении значений результатов предоставления субсидии (форма установлена соглашением о предоставлении субсидии из бюджета городского округа Московской области)
B49: Подпрограмма V «Укрепление материально-технической базы муниципальных учреждений культуры»
A50: 5.1. | B50: 05.01.01.01. | C50: Оборудованы в соответствии с требованиями доступности для инвалидов и других маломобильных групп населения объекты организаций культуры (ед.) | D50: единица | E50: Отчеты о достижении значений результатов предоставления субсидии (форма установлена соглашением о предоставлении субсидии из бюджета городского округа Московской области)
A51: 5.2. | B51: 05.02.02.04. | C51: Количество объектов муниципальных культурно-досуговых учреждений в сельской местности, в которых проведен капитальный ремонт, ед. | D51: единица | E51: Отчеты о достижении значений результатов предоставления субсидии (форма установлена соглашением о предоставлении субсидии из бюджета городского округа Московской области)
B52: Подпрограмма VI «Развитие образования в сфере культуры»
...

Sheet паспорт пп2
A3: Паспорт Подпрограммы II. «Развитие музейного дела»
A5: Муниципальный заказчик подпрограммы | C5: Комитет по культуре и туризму Администрации городского округа Щёлково
A6: Источники финансирования подпрограммы,в том числе по годам: | B6: Главный распорядитель бюджетных средств: Комитет по культуре и туризму Администрации городского округа Щёлково | C6: Источник финансирования | D6: Расходы (тыс. рублей)
D7: Всего | E7: 2023 | F7: 2024 | G7: 2025 | H7: 2026 | I7: 2027 | J7: 2028
C8: Средства бюджета городского округа Щёлково | D8: =SUM(E8:J8) -> 386815.76 | E8: =пп2!F55 -> 49199.1 | F8: =пп2!G55 -> 60619.88 | G8: =пп2!H55 -> 67336.51 | H8: =пп2!I55 -> 76668.63 | I8: =пп2!N55 -> 71823.01 | J8: =пп2!O55 -> 61168.63
C9: Средства бюджета Московской области | D9: =SUM(E9:J9) -> 9076.8 | E9: =пп2!F56 -> 2504.69 | F9: =пп2!G56 -> 3198.09 | G9: =пп2!H56 -> 3374.02 | H9: =пп2!I56 -> 0 | I9: =пп2!N56 -> 0 | J9: =пп2!O56 -> 0
C10: Внебюджетные источники | D10: =SUM(E10:J10) -> 11846.58 | E10: =пп2!F57 -> 1832.6 | F10: =пп2!G57 -> 1573.49 | G10: =пп2!H57 -> 2440.49 | H10: =пп2!I57 -> 2000 | I10: =пп2!N57 -> 2000 | J10: =пп2!O57 -> 2000
C11: Всего, в том числе: | D11: =SUM(E11:J11) -> 407739.14 | E11: =E8+E10+E9 -> 53536.39 | F11: =F8+F10+F9 -> 65391.46 | G11: =G8+G10+G9 -> 73151.02 | H11: =H8+H10+H9 -> 78668.63 | I11: =I8+I10+I9 -> 73823.01 | J11: =J8+J10+J9 -> 63168.63

Sheet пп2
A1: Перечень мероприятий подпрограмма II «Развитие музейного дела»
A4: № п/п | B4: Мероприятие подпрограммы | C4: Сроки исполнения, годы | D4: Источник финансирования | E4: Всего (тыс.руб.) | F4: Объем финансирования по годам (тыс.руб.) | P4: Ответственный за выполнение мероприятия
F6: 2023 год | G6: 2024 год | H6: 2025 год | I6: 2026 год | N6: 2027 год | O6: 2028 год
A7: 1 | B7: Основное мероприятие 01. Обеспечение выполнения функций муниципальных музеев | C7: 2023-2028 | D7: Итого | E7: =F7+G7+H7+I7+N7+O7 -> 368460.09 | F7: =F8+F10+F9 -> 52586.39 | G7: =G8+G10+G9 -> 59087.15 | H7: =H8+H10+H9 -> 65280.66 | I7: =I8+I10+I9 -> 64168.63 | N7: =N8+N10+N9 -> 64168.63 | O7: =O8+O10+O9 -> 63168.63
D8: Средства бюджетов городского округа Щёлково | E8: =F8+G8+H8+I8+N8+O8 -> 347536.71 | F8: =F12 -> 48249.1 | G8: =G12 -> 54315.57 | H8: =H12 -> 59466.15 | I8: =I12 -> 62168.63 | N8: =N12 -> 62168.63 | O8: =O12 -> 61168.63
D9: Средства бюджета Московской области | E9: =F9+G9+H9+I9+N9+O9 -> 9076.8 | F9: =F18 -> 2504.69 | G9: =G18 -> 3198.09 | H9: =H18 -> 3374.02 | I9: =I18 -> 0 | N9: =N18 -> 0 | O9: =O18 -> 0
D10: Внебюджетные средства | E10: =F10+G10+H10+I10+N10+O10 -> 11846.58 | F10: =F13 -> 1832.6 | G10: =G13 -> 1573.49 | H10: =H13 -> 2440.49 | I10: =I13 -> 2000 | N10: =N13 -> 2000 | O10: =O13 -> 2000
A11: 1.1. | B11: Мероприятие 01.01 Расходы на обеспечение деятельности (оказание услуг) муниципальных учреждений – музеи, галереи | C11: 2023-2028 | D11: Итого | E11: =F11+G11+H11+I11+N11+O11 -> 359383.29 | F11: 50081.7 | G11: =G12+G13 -> 55889.06 | H11: =H12+H13 -> 61906.64 | I11: =I12+I13 -> 64168.63 | N11: =N12+N13 -> 64168.63 | O11: =O12+O13 -> 63168.63 | P11: МБУК ГОЩ «ЩИХМ»
D12: Средства бюджета городского округа Щёлково | E12: =F12+G12+H12+I12+N12+O12 -> 347536.71 | F12: 48249.1 | G12: 54315.57 | H12: 59466.15 | I12: 62168.63 | N12: 62168.63 | O12: 61168.63
D13: Внебюджетные средства | E13: =F13+G13+H13+I13+N13+O13 -> 11846.58 | F13: 1832.6 | G13: 1573.49 | H13: 2440.49 | I13: 2000 | N13: 2000 | O13: 2000
B14: Доля достижения показателей муниципального задания, характеризующих объем оказываемых муниципальных услуг (работ) от установленных показателей муниципального задания, характеризующих объем муниципальных услуг (работ) для муниципальных учреждений - музеи, галереи, процент | C14: х | D14: х | E14: Всего | F14: 2023 год | G14: 2024 год | H14: 2025 год | I14: Итого 2026 год | J14: В том числе по кварталам: | N14: 2027 год | O14: 2028 год
J15: I | K15: II | L15: III | M15: IV
E16: 100 | F16: 100 | G16: 100 | H16: 100 | I16: 100 | J16: 25 | K16: 50 | L16: 75 | M16: 100 | N16: 100 | O16: 100
A17: 1.2. | B17: Мероприя 01.04. Сохранение достигнутого уровня заработной платы работников муниципальных учреждений культуры | C17: 2023-2028 | D17: Итого | E17: =F17+G17+H17+I17+N17+O17 -> 9076.8 | F17: =F18 -> 2504.69 | G17: =G18 -> 3198.09 | H17: =H18 -> 3374.02 | I17: =I18 -> 0 | N17: =N18 -> 0 | O17: =O18 -> 0 | P17: Комитет по культуре и туризму Администрации городского округа Щёлково
D18: Средства бюджета Московской области | E18: =F18+G18+H18+I18+N18+O18 -> 9076.8 | F18: 2504.69 | G18: 3198.09 | H18: 3374.02 | I18: 0 | N18: 0 | O18: 0
B19: Соотношение средней заработной платы работников муниципальных учреждений культуры без учета внешних совместителей и среднемесячной начисленной заработной платы наемных работников в организациях, у индивидуальных предпринимателей и физических лиц (среднемесячному доходу от трудовой деятельности) в Московской области, процент | C19: х | D19: х | E19: Всего | F19: 2023 год | G19: 2024 год | H19: 2025 год | I19: Итого 2026 год | J19: В том числе по кварталам: | N19: 2027 год | O19: 2028 год
J20: I | K20: II | L20: III | M20: IV
E21: 116.38 | F21: 98.67 | G21: 116.38 | H21: 100.02 | I21: - | J21: - | K21: - | L21: - | M21: - | N21: - | O21: -
A22: 2. | B22: Основное мероприятие 03. Модернизация (развитие) материально-технической базы, проведение текущего ремонта, муниципальных музеев Московской области | C22: 2023-2028 | D22: Итого | E22: =F22+G22+H22+I22+N22+O22 -> 39279.05 | F22: =F23+F24 -> 950 | G22: =G23+G24 -> 6304.31 | H22: =H23+H24 -> 7870.36 | I22: =I23+I24 -> 14500 | N22: =N23+N24 -> 9654.38 | O22: =O23+O24 -> 0
D23: Средства бюджета городского округа Щёлково | E23: =F23+G23+H23+I23+N23+O23 -> 39279.05 | F23: =F38+F26+F32 -> 950 | G23: =G26+G32+G38 -> 6304.31 | H23: =H26+H32+H38++H44+H49 -> 7870.36 | I23: =I26+I32+I38+I49 -> 14500 | N23: =N26+N32+N38+N49 -> 9654.38 | O23: =O26+O32+O38+O49 -> 0
D24: Внебюджетные средства | E24: =F24+G24+H24+I24+N24+O24 -> 0 | F24: =F39 -> 0 | G24: =G39 -> 0 | H24: =H39 -> 0 | I24: =I39 -> 0 | N24: =N39 -> 0 | O24: =O39 -> 0
A25: 2.1. | B25: Мероприятие 03.01 Модернизация (развитие) материально-технической базы муниципальных музеев | C25: 2023-2028 | D25: Итого | E25: =F25+G25+H25+I25+N25+O25 -> 3986.92 | F25: 0 | G25: =G26+G27 -> 3722.1 | H25: =H26+H27 -> 264.82 | I25: =I26+I27 -> 0 | N25: =N26+N27 -> 0 | O25: =O26+O27 -> 0 | P25: МБУК ГОЩ «ЩИХМ»
D26: Средства бюджета городского округа Щёлково | E26: =F26+G26+H26+I26+N26+O26 -> 3986.92 | F26: 0 | G26: 3722.1 | H26: 264.82 | I26: 0 | N26: 0 | O26: 0
D27: Внебюджетные средства | E27: =F27+G27+H27+I27+N27+O27 -> 0 | F27: 0 | G27: 0 | H27: 0 | I27: 0 | N27: 0 | O27: 0
B28: Осуществлена поставка товаров, работ, услуг в целях модернизации (развития) материально-технической базы муниципальных музеев, (ед.) | C28: х | D28: х | E28: Всего | F28: 2023 год | G28: 2024 год | H28: 2025 год | I28: Итого 2026 год | J28: В том числе по кварталам: | N28: 2027 год | O28: 2028 год
J29: I | K29: II | L29: III | M29: IV
E30: =3408+H30 -> 3412 | F30: 0 | G30: 3408 | H30: 4 | I30: - | J30: - | K30: - | L30: - | M30: - | N30: - | O30: -
A31: 2.2. | B31: Мероприятие 03.02 Проведение капитального ремонта, текущего ремонта и благоустройство территорий муниципальных музеев | C31: 2023-2024 | D31: Итого | E31: =F31+G31+H31+I31+N31+O31 -> 3160.21 | F31: 750 | G31: =G32+G33 -> 2410.21 | H31: =H32+H33 -> 0 | I31: =I32+I33 -> 0 | N31: =N32+N33 -> 0 | O31: =O32+O33 -> 0 | P31: МБУК ГОЩ «ЩИХМ»
D32: Средства бюджета городского округа Щёлково | E32: =F32+G32+H32+I32+N32+O32 -> 3160.21 | F32: 750 | G32: 2410.21 | H32: 0 | I32: 0 | N32: 0 | O32: 0
D33: Внебюджетные средства | E33: =F33+G33+H33+I33+N33+O33 -> 0 | F33: 0 | G33: 0 | H33: 0 | I33: 0 | N33: 0 | O33: 0
B34: Проведены работы по капитальному ремонту, текущему ремонту, техническому переоснащению и благоустройству территорий в муниципальных музеях Московской области, (ед.) | C34: х | D34: х | E34: Всего | F34: 2023 год | G34: 2024 год | H34: 2025 год | I34: Итого 2026 год | J34: В том числе по кварталам: | N34: 2027 год | O34: 2028 год
J35: I | K35: II | L35: III | M35: IV
E36: 7 | F36: 1 | G36: 6 | H36: - | I36: - | J36: - | K36: - | L36: - | M36: - | N36: - | O36: -
A37: 2.3. | B37: Мероприятие 03.03 Приобретение фондового, реставрационного и экспозиционного оборудования | C37: 2023-2028 | D37: Итого | E37: =F37+G37+H37+I37+N37+O37 -> 372 | F37: 200 | G37: =G38+G39 -> 172 | H37: =H38+H39 -> 0 | I37: =I38+I39 -> 0 | N37: =N38+N39 -> 0 | O37: =O38+O39 -> 0 | P37: МБУК ГОЩ «ЩИХМ»
D38: Средства бюджета городского округа Щёлково | E38: =F38+G38+H38+I38+N38+O38 -> 372 | F38: 200 | G38: 172 | H38: 0 | I38: 0 | N38: 0 | O38: 0
D39: Внебюджетные средства | E39: =F39+G39+H39+I39+N39+O39 -> 0 | F39: 0 | G39: 0 | H39: 0 | I39: 0 | N39: 0 | O39: 0
B40: Приобретено фондовое, реставрационное и экспозиционное оборудование в муниципальных музеях Московской области, (ед.) | C40: х | D40: х | E40: Всего | F40: 2023 год | G40: 2024 год | H40: 2025 год | I40: Итого 2026 год | J40: В том числе по кварталам: | N40: 2027 год | O40: 2028 год
J41: I | K41: II | L41: III | M41: IV
E42: =G42+F42 -> 15 | F42: 4 | G42: 11 | H42: - | I42: - | J42: - | K42: - | L42: - | M42: - | N42: - | O42: -
A43: 2.4. | B43: Мероприятие 03.04 Выполнение работ по обеспечению пожарной безопасности в муниципальных музеях | C43: 2023-2028 | D43: Итого | E43: =F43+G43+H43+I43+N43+O43 -> 1002.6 | F43: =F44 -> 0 | G43: =G44 -> 0 | H43: =H44 -> 1002.6 | I43: =I44 -> 0 | N43: =N44 -> 0 | O43: 0 | P43: МБУК ГОЩ «ЩИХМ»
...

Sheet паспорт пп 3
A3: Паспорт подпрограммы III «Развитие библиотечного дела»
A5: Муниципальный заказчик подпрограммы | C5: Комитет по культуре и туризму Администрации городского округа Щёлково
A6: Источники финансирования подпрограммы,в том числе по годам: | B6: Главный распорядитель бюджетных средств: Комитет по культуре и туризму Администрации городского округа Щёлково | C6: Источник финансирования | D6: Расходы (тыс. рублей)
D7: Всего | E7: 2023 | F7: 2024 | G7: 2025 | H7: 2026 | I7: 2027 | J7: 2028
C8: Средства бюджета городского округа Щёлково | D8: =SUM(E8:J8) -> 777738.85 | E8: =пп3!F84 -> 95939.73 | F8: =пп3!G84 -> 124754.35 | G8: =пп3!H84 -> 129776.72 | H8: =пп3!I84 -> 143998.73 | I8: =пп3!N84 -> 146005.63 | J8: =пп3!O84 -> 137263.69
C9: Средства бюджета Московской области | D9: =SUM(E9:J9) -> 24766.58 | E9: =пп3!F85 -> 6188.4 | F9: =пп3!G85 -> 6797.1 | G9: =пп3!H85 -> 10265.12 | H9: =пп3!I85 -> 470.28 | I9: =пп3!N85 -> 500.31 | J9: =пп3!O85 -> 545.37
C10: Средства Федерального бюджета | D10: =SUM(E10:J10) -> 19039.45 | E10: =пп3!F86 -> 5440.51 | F10: =пп3!G86 -> 500.54 | G10: =пп3!H86 -> 11605 | H10: =пп3!I86 -> 509.47 | I10: =пп3!N86 -> 500.31 | J10: =пп3!O86 -> 483.62
C11: Внебюджетные источники | D11: =SUM(E11:J11) -> 4468.26 | E11: =пп3!F87 -> 631.29 | F11: =пп3!G87 -> 796.41 | G11: =пп3!H87 -> 940.56 | H11: =пп3!I87 -> 700 | I11: =пп3!N87 -> 700 | J11: =пп3!O87 -> 700
C12: Всего, в том числе: | D12: =SUM(E12:J12) -> 826013.14 | E12: =E8+E11+E9+E10 -> 108199.93 | F12: =F8+F11+F9+F10 -> 132848.4 | G12: =G8+G11+G9+G10 -> 152587.4 | H12: =H8+H11+H9+H10 -> 145678.48 | I12: =I8+I11+I9+I10 -> 147706.25 | J12: =J8+J11+J9+J10 -> 138992.68

Sheet пп3
A1: Перечень мероприятий подпрограммы III «Развитие библиотечного дела»
A4: № п/п | B4: Мероприятие подпрограммы | C4: Сроки исполнения, годы | D4: Источник финансирования | E4: Всего (тыс.руб.) | F4: Объем финансирования по годам (тыс.руб.) | P4: Ответственный за выполнение мероприятия
F6: 2023 год | G6: 2024 год | H6: 2025 год | I6: 2026 год | N6: 2027 год | O6: 2028 год
A7: 1 | B7: Основное мероприятие 01. Организация библиотечного обслуживания населения муниципальными библиотеками Московской области | C7: 2023-2028 | D7: Итого | E7: =F7+G7+H7+I7+N7+O7 -> 792034.64 | F7: =F10+F9+F8+F11 -> 103199.93 | G7: =G10+G9+G8+G11 -> 127368.79 | H7: =H10+H9+H8+H11 -> 134989.07 | I7: =I10+I9+I8+I11 -> 143728.48 | N7: =N10+N9+N8+N11 -> 143755.69 | O7: =O10+O9+O8+O11 -> 138992.68
D8: Средства бюджета городского округа Щёлково | E8: =F8+G8+H8+I8+N8+O8 -> 763760.35 | F8: =F13+F19+F28 -> 95939.73 | G8: =G13+G19+G28 -> 119274.74 | H8: =H13+H19+H28 -> 127178.39 | I8: =I13+I19+I28 -> 142048.73 | N8: =N13+N19+N28 -> 142055.07 | O8: =O13+O19+O28 -> 137263.69
D9: Средства Федерального бюджета | E9: =F9+G9+H9+I9+N9+O9 -> 2939.45 | F9: =F29 -> 440.51 | G9: =G29 -> 500.54 | H9: =H29 -> 505 | I9: =I29 -> 509.47 | N9: =N29 -> 500.31 | O9: =O29 -> 483.62
D10: Средства бюджета Московской области | E10: =F10+G10+H10+I10+N10+O10 -> 20866.58 | F10: =F30+F35 -> 6188.4 | G10: =G30+G35 -> 6797.1 | H10: =H30+H35 -> 6365.12 | I10: =I30+I35 -> 470.28 | N10: =N30+N35 -> 500.31 | O10: =O30+O35 -> 545.37
D11: Внебюджетные средства | E11: =F11+G11+H11+I11+N11+O11 -> 4468.26 | F11: =F14 -> 631.29 | G11: =G14 -> 796.41 | H11: =H14 -> 940.56 | I11: =I14 -> 700 | N11: =N14 -> 700 | O11: =O14 -> 700
A12: 1.1. | B12: Мероприятие 01.01 Расходы на обеспечение деятельности (оказание услуг) муниципальных учреждений – библиотеки | C12: 2023-2028 | D12: Итого | E12: =F12+G12+H12+I12+N12+O12 -> 750934.79 | F12: =F13+F14 -> 94893.99 | G12: =G13+G14 -> 116779.53 | H12: =H13+H14 -> 124307.97 | I12: =I13+I14 -> 138651.1 | N12: =N13+N14 -> 138651.1 | O12: =O13+O14 -> 137651.1 | P12: МБУК ГОЩ «ЩЦБ»
D13: Средства бюджета городского округа Щёлково | E13: =F13+G13+H13+I13+N13+O13 -> 746466.53 | F13: 94262.7 | G13: 115983.12 | H13: 123367.41 | I13: 137951.1 | N13: 137951.1 | O13: 136951.1
D14: Внебюджетные средства | E14: =F14+G14+H14+I14+N14+O14 -> 4468.26 | F14: 631.29 | G14: 796.41 | H14: 940.56 | I14: 700 | N14: 700 | O14: 700
B15: Доля достижения показателей муниципального задания, характеризующих объем оказываемых муниципальных услуг (работ) от установленных показателей муниципального задания, характеризующих объем муниципальных услуг (работ), для муниципальных учреждений-библиотеки, процент | C15: х | D15: х | E15: Всего | F15: 2023 год | G15: 2024 год | H15: 2025 год | I15: Итого 2026 год | J15: В том числе по кварталам: | N15: 2027 год | O15: 2028 год
J16: I | K16: II | L16: III | M16: IV
E17: 100 | F17: 100 | G17: 100 | H17: 100 | I17: 100 | J17: 25 | K17: 50 | L17: 75 | M17: 100 | N17: 100 | O17: 100
A18: 1.2. | B18: Мероприятие 01.02 Комплектование и обеспечение сохранности библиотечных фондов библиотек муниципального образования | C18: 2023-2028 | D18: Итого | E18: =F18+G18+H18+I18+N18+O18 -> 15400 | F18: =F19+F20 -> 1300 | G18: =G19+G20 -> 3000 | H18: =H19+H20 -> 3500 | I18: =I19+I20 -> 3800 | N18: =N19+N20 -> 3800 | O18: =O19+O20 -> 0 | P18: МБУК ГОЩ «ЩЦБ»
D19: Средства бюджета городского округа Щёлково | E19: =F19+G19+H19+I19+N19+O19 -> 15400 | F19: 1300 | G19: 3000 | H19: 3500 | I19: 3800 | N19: 3800 | O19: 0
D20: Внебюджетные средства | E20: =F20+G20+H20+I20+N20+O20 -> 0 | F20: 0 | G20: 0 | H20: 0 | I20: 0 | N20: 0 | O20: 0
B21: Поставка литературы различного содержания для комплектования библиотечных фондов, штука | C21: х | D21: х | E21: Всего | F21: 2023 год | G21: 2024 год | H21: 2025 год | I21: Итого 2026 год | J21: В том числе по кварталам: | N21: 2027 год | O21: 2028 год
J22: I | K22: II | L22: III | M22: IV
E23: =F23+G23+H23 -> 10536 | F23: 1900 | G23: 4370 | H23: 4266 | I23: - | J23: - | K23: - | L23: - | M23: - | N23: - | O23: -
B24: Муниципальные библиотеки, обеспечивающие сохранность книжных фондов, ед. | C24: х | D24: х | E24: Всего | F24: 2023 год | G24: 2024 год | H24: 2025 год | I24: Итого 2026 год | J24: В том числе по кварталам: | N24: 2027 год | O24: 2028 год
J25: I | K25: II | L25: III | M25: IV
E26: =I26+N26+O26 -> 2 | F26: - | G26: - | H26: - | I26: 1 | J26: 0 | K26: 0 | L26: 1 | M26: 1 | N26: 1 | O26: 0
A27: 1.3. | B27: Мероприятие 01.03. Государственная поддержка отрасли культуры (модернизация библиотек в части комплектования книжных фондов муниципальных общедоступных библиотек) | C27: 2023-2028 | D27: Итого | E27: =F27+G27+H27+I27+N27+O27 -> 7501.8 | F27: =F30+F29+F28 -> 1163.64 | G27: =G30+G29+G28 -> 1185.44 | H27: =H30+H29+H28 -> 1229.17 | I27: =I30+I29+I28 -> 1277.38 | N27: =N30+N29+N28 -> 1304.59 | O27: =O30+O29+O28 -> 1341.58 | P27: МБУК ГОЩ «ЩЦБ»
D28: Средства бюджета городского округа Щёлково | E28: =F28+G28+H28+I28+N28+O28 -> 1893.82 | F28: 377.03 | G28: 291.62 | H28: 310.98 | I28: 297.63 | N28: 303.97 | O28: 312.59
D29: Средства Федерального бюджета | E29: =F29+G29+H29+I29+N29+O29 -> 2939.45 | F29: 440.51 | G29: 500.54 | H29: 505 | I29: 509.47 | N29: 500.31 | O29: 483.62
D30: Средства бюджета Московской области | E30: =F30+G30+H30+I30+N30+O30 -> 2668.53 | F30: 346.1 | G30: 393.28 | H30: 413.19 | I30: 470.28 | N30: 500.31 | O30: 545.37
B31: Муниципальные библиотеки Московской области (юридические лица), обновившие книжный фонд, (ед.) | C31: х | D31: х | E31: Всего | F31: 2023 год | G31: 2024 год | H31: 2025 год | I31: Итого 2026 год | J31: В том числе по кварталам: | N31: 2027 год | O31: 2028 год
J32: I | K32: II | L32: III | M32: IV
E33: =F33+G33+H33+I33+N33+O33 -> 6 | F33: 1 | G33: 1 | H33: 1 | I33: 1 | J33: 0 | K33: 0 | L33: 1 | M33: 1 | N33: 1 | O33: 1
A34: 1.4. | B34: Мероприя 01.04. Сохранение достигнутого уровня заработной платы работников муниципальных учреждений культуры | C34: 2023-2028 | D34: Итого | E34: =F34+G34+H34+I34+N34+O34 -> 18198.05 | F34: =F35 -> 5842.3 | G34: =G35 -> 6403.82 | H34: =H35 -> 5951.93 | I34: =I35 -> 0 | N34: =N35 -> 0 | O34: =O35 -> 0 | P34: Комитет по культуре и туризму Администрации городского округа Щёлково
D35: Средства бюджета Московской области | E35: =F35+G35+H35+I35+N35+O35 -> 18198.05 | F35: 5842.3 | G35: 6403.82 | H35: 5951.93 | I35: 0 | N35: 0 | O35: 0
